BEGIN:VCALENDAR
VERSION:2.0
PRODID:-//wp-events-plugin.com//7.2.3.1//EN
TZID:Europe/Amsterdam
X-WR-TIMEZONE:Europe/Amsterdam
BEGIN:VEVENT
UID:174@hskdeachtzaligheden.nl
DTSTART;TZID=Europe/Amsterdam:20191210T200000
DTEND;TZID=Europe/Amsterdam:20191210T223000
DTSTAMP:20191208T082302Z
URL:https://www.hskdeachtzaligheden.nl/agenda/lezing-over-de-eindhovense-f
 otograaf-en-ondernemer-anton-schellens/
SUMMARY:Lezing: “Textielfabrikant en fotograaf Anton Schellens” - Stree
 kmuseum De Achtzaligheden - 10 dec 19 20:00
DESCRIPTION:Zoals veel van zijn rijke collega’s was de Eindhovense textie
 lfabrikant Anton Schellens (1887-1954) een gepassioneerde verzamelaar van
  moderne kunst\, vooral van de Haagse School en Amsterdamse impressioniste
 n. Wat Jongkind\, Mauve\, Willem Maris en Breitner met palet en penseel ma
 akten probeerde Anton Schellens met fotografie. Met zorg koos hij in zijn 
 Eindhovense omgeving taferelen van puur\, onbedorven en pittoreske plattel
 andsleven\, met eenvoudige optrekjes waar keuterboeren\, thuiswerkende amb
 achtslieden en oude vrouwen hun dagen sleten zoals generaties voor hen dat
  deden. Cor van der Heijden gaat in zijn lezing in drie delen uitvoerig in
  op het “wie”\, het “waarom” en “het wat” van de fotocollectie
 \, die tussen 1910 en 1925 tot stand kwam. In het hoofdstuk over “het wi
 e” krijgen drie families aandacht\; behalve Schellens zijn dat Eijcken (
 familie van moederskant) en Van Wijck (schoonfamilie). In het hoofdstuk 
 “het Waarom”staat de beeldende kunst centraal met aandacht voor zijn r
 ol als verzamelaar en actieve betrokkenheid bij het culturele leven in Ein
 dhoven en in het derde hoofdstuk duiding over het fotografische werk van A
 nton Schellens.\n\nIn de lezing komen een 250 tal beelden aan de orde waar
 door menig onderwerp uit de periode 1910-1925 aan de vergetelheid wordt on
 trukt.\n\nCor van der Heijden (1957) is historicus en promoveerde in 1995.
  Vanaf 1982 werkzaam als docent voortgezet onderwijs in Tilburg\, publicis
 t in tal van bladen waar onder NRC Handelsblad. Vanaf 1995 auteur en eindr
 edacteur van diverse geschiedenisboeken voor het VO\, Lid van de redactie 
 van het tijdschrift van Brabants Heem van 1983 tot 2009  en houder van de
  Historische Prijs Noord Brabant sinds januari 2011.\n\nNiet-leden zijn va
 n harte welkom. Zij betalen 5 euro pp\, maar krijgen daarvoor ook koffie e
 n thee in de pauze. Inlichtingen bij Frans Teunis tel 515188
CATEGORIES:Lezingen
LOCATION:Streekmuseum De Achtzaligheden\, Kapelweg 2\, Eersel\, 5521 JJ\, N
 ederland
GEO:51.353401;5.311640
X-APPLE-STRUCTURED-LOCATION;VALUE=URI;X-ADDRESS=Kapelweg 2\, Eersel\, 5521 
 JJ\, Nederland;X-APPLE-RADIUS=100;X-TITLE=Streekmuseum De Achtzaligheden:g
 eo:51.353401,5.311640
END:VEVENT
BEGIN:VTIMEZONE
TZID:Europe/Amsterdam
X-LIC-LOCATION:Europe/Amsterdam
BEGIN:STANDARD
DTSTART:20191027T020000
TZOFFSETFROM:+0200
TZOFFSETTO:+0100
TZNAME:CET
END:STANDARD
END:VTIMEZONE
END:VCALENDAR