BEGIN:VCALENDAR
VERSION:2.0
PRODID:-//wp-events-plugin.com//7.2.3.1//EN
TZID:Europe/Amsterdam
X-WR-TIMEZONE:Europe/Amsterdam
BEGIN:VEVENT
UID:216@hskdeachtzaligheden.nl
DTSTART;TZID=Europe/Amsterdam:20251111T200000
DTEND;TZID=Europe/Amsterdam:20251111T220000
DTSTAMP:20250911T131348Z
URL:https://www.hskdeachtzaligheden.nl/agenda/lezing-verhalen-achter-het-e
 rfgoed-van-duizel-eersel-en-steensel-door-winfried-thijssen/
SUMMARY:Lezing: “Verhalen achter het erfgoed van Duizel\, Eersel en Steen
 sel“ door Winfried Thijssen - Kempenmuseum - 11 nov 25 20:00
DESCRIPTION:Lezing “Verhalen achter het erfgoed van Duizel\, Eersel en St
 eensel“ door Winfried Thijssen\n\nIn deze lezing wordt u meegenomen door
  de geschiedenis van Duizel\, Eersel en Steensel aan de hand van een aanta
 l verhalen over rijksmonumenten\, gemeente­lijke monumenten en cultuurhis
 torisch waardevolle gebouwen en terreinen.\n\nWe gaan terug in de tijd\, z
 elfs tot in de middeleeuwen\, naar het landgoed Heynsheuvel\, tegenwoordig
  bekend als de Hertheuvelsehoef\, maar ook de Stevertse watermolen stond e
 r al in de middeleeuwen. Diverse sociaalhistorische ontwikkelingen uit de 
 negentiende en begin twintigste eeuw komen aan bod aan de hand van enkele 
 nog bestaande huizen en gebouwen. Denk hierbij aan de boterfabriekjes\, de
  Boerenbond en de woningbouwverenigingen.\n\nWist u dat er tot 1970 een li
 monadefabriek en destilleerderij heeft gestaan in het hartje van Eersel? E
 en aantal oude verhalen passeren de revue over gewone mensen die in deze b
 ijzondere woningen hebben geleefd\, maar ook heel bijzondere mensen als me
 juffrouw Mirandolle van de Hees of dokter Bakhuizen van den Brink.\n\nWinf
 ried Thijssen is actief lid van de kring en enthousiast onderzoeker in de 
 geschiedenis van Eersel op allerlei terreinen en heeft in het verleden mee
 rmaals succesvolle lezingen voor de kring verzorgd.\n\nOok niet-leden zijn
  van harte welkom en betalen vijf euro incluis koffie of thee. Nadere inli
 chtingen Frans Teunis 0497-515188 of www.hskdeachtzaligheden.nl.\n\n&nbsp\
 ;
ATTACH;FMTTYPE=image/jpeg:https://www.hskdeachtzaligheden.nl/wp-content/up
 loads/2025/04/Lezing-november-2025.jpg
CATEGORIES:Lezingen
LOCATION:Kempenmuseum\, Kapelweg 2\, Eersel\, Noord-Brabant\, 5521 JJ\, De 
 Kempen\, Nederland
X-APPLE-STRUCTURED-LOCATION;VALUE=URI;X-ADDRESS=Kapelweg 2\, Eersel\, Noord
 -Brabant\, 5521 JJ\, De Kempen\, Nederland;X-APPLE-RADIUS=100;X-TITLE=Kemp
 enmuseum:geo:0,0
END:VEVENT
BEGIN:VTIMEZONE
TZID:Europe/Amsterdam
X-LIC-LOCATION:Europe/Amsterdam
BEGIN:STANDARD
DTSTART:20251026T020000
TZOFFSETFROM:+0200
TZOFFSETTO:+0100
TZNAME:CET
END:STANDARD
END:VTIMEZONE
END:VCALENDAR